BEGIN:VCALENDAR
VERSION:2.0
PRODID:-//Tukios.com/
BEGIN:VEVENT
UID:a3bb2ed2-c389-4b7c-8ca5-5153e25088f5@www.mrgrayfh.com
DTSTAMP:20260423T203158Z
DTSTART:20260425
SUMMARY:Burial
DESCRIPTION:
URL:https://www.mrgrayfh.com/obituaries/jack-carter
LOCATION:Elliott County Memory Gardens North Kentucky 7  Sandy Hook KY 
	41171
GEO:38.0940861;-83.124196
END:VEVENT
END:VCALENDAR