BEGIN:VCALENDAR
VERSION:2.0
PRODID:-//Tukios.com/
BEGIN:VEVENT
UID:5f01b604-ddd7-43b3-846d-55eec6c53ad8@www.mrgrayfh.com
DTSTAMP:20260423T203331Z
DTSTART:20260424T220000Z
DTEND:20260424T230000Z
SUMMARY:Visitation
DESCRIPTION:
URL:https://www.mrgrayfh.com/obituaries/jack-carter
LOCATION: 808 Old Flemingsburg Rd  Morehead KY 40351
GEO:38.1789771;-83.4536427
END:VEVENT
END:VCALENDAR